BEGIN:VCALENDAR
VERSION:2.0
PRODID:-//Microorganismos Eficazes - Green Tribe People - ECPv6.15.20//NONSGML v1.0//EN
CALSCALE:GREGORIAN
METHOD:PUBLISH
X-WR-CALNAME:Microorganismos Eficazes - Green Tribe People
X-ORIGINAL-URL:https://greentribepeople.com
X-WR-CALDESC:Eventos para Microorganismos Eficazes - Green Tribe People
REFRESH-INTERVAL;VALUE=DURATION:PT1H
X-Robots-Tag:noindex
X-PUBLISHED-TTL:PT1H
BEGIN:VTIMEZONE
TZID:Europe/Lisbon
BEGIN:DAYLIGHT
TZOFFSETFROM:+0000
TZOFFSETTO:+0100
TZNAME:WEST
DTSTART:20250330T010000
END:DAYLIGHT
BEGIN:STANDARD
TZOFFSETFROM:+0100
TZOFFSETTO:+0000
TZNAME:WET
DTSTART:20251026T010000
END:STANDARD
BEGIN:DAYLIGHT
TZOFFSETFROM:+0000
TZOFFSETTO:+0100
TZNAME:WEST
DTSTART:20260329T010000
END:DAYLIGHT
BEGIN:STANDARD
TZOFFSETFROM:+0100
TZOFFSETTO:+0000
TZNAME:WET
DTSTART:20261025T010000
END:STANDARD
BEGIN:DAYLIGHT
TZOFFSETFROM:+0000
TZOFFSETTO:+0100
TZNAME:WEST
DTSTART:20270328T010000
END:DAYLIGHT
BEGIN:STANDARD
TZOFFSETFROM:+0100
TZOFFSETTO:+0000
TZNAME:WET
DTSTART:20271031T010000
END:STANDARD
END:VTIMEZONE
BEGIN:VEVENT
DTSTART;TZID=Europe/Lisbon:20260329T100000
DTEND;TZID=Europe/Lisbon:20260329T123000
DTSTAMP:20260422T193127
CREATED:20260202T113352Z
LAST-MODIFIED:20260226T113818Z
UID:2623-1774778400-1774787400@greentribepeople.com
SUMMARY:Workshop II - Solo & Plantas com Microorganismos Eficazes
DESCRIPTION:Duração total: 2\,5 horas \nConselhos práticos sobre como os Microorganismos Eficazes podem ser usados para regenerar o solo e cultivar alimentos valiosos e saudáveis. \nVocê aprenderá: \n\ncomo os EM apoiam a regeneração do solo e melhoram o microbioma do solo\ncomo alimentar e cuidar do seu solo naturalmente\ncomo começar facilmente a cultivar microverduras bem na sua porta\ncomo apoiar árvores frutíferas\, vegetais e plantas de jardim com EM\nquais produtos EM usar e quando: EM ReviGreen\, EM MultiGrower\, EM 5\, Bokashi\, EM Naturally Active (ou versão caseira EM A)\n\nVocê vai praticar: \n\ncomo inocular carvão vegetal com Microorganismos Eficazes\ncomo preparar sementes para microverduras bem-sucedidas\n\nVocê vai levar para casa: \n\namostras de produtos para o solo e plantas\nnotas e receitas para referência futura\nconhecimento prático que você pode aplicar imediatamente\numa cabeça cheia de estratégias fundamentadas para cultivar alimentos de uma forma que se adapte à sua vida\n\nO que trazer: \n\nCaderno\nLuvas\nGarrafa esterilizada (limpa) para produtos de solo e plantas
URL:https://greentribepeople.com/event/workshop-ii-solo-plantas-com-microorganismos-eficazes/
LOCATION:Vale Juncal\, perto de São Teotónio\, Escola Primária Vale Juncal\, São Teotónio\, 7630-174\, Portugal
END:VEVENT
END:VCALENDAR