BEGIN:VCALENDAR
VERSION:2.0
PRODID:-//Microorganismos Eficazes - Green Tribe People - ECPv6.15.20//NONSGML v1.0//EN
CALSCALE:GREGORIAN
METHOD:PUBLISH
X-WR-CALNAME:Microorganismos Eficazes - Green Tribe People
X-ORIGINAL-URL:https://greentribepeople.com/en
X-WR-CALDESC:Events for Microorganismos Eficazes - Green Tribe People
REFRESH-INTERVAL;VALUE=DURATION:PT1H
X-Robots-Tag:noindex
X-PUBLISHED-TTL:PT1H
BEGIN:VTIMEZONE
TZID:Europe/Lisbon
BEGIN:DAYLIGHT
TZOFFSETFROM:+0000
TZOFFSETTO:+0100
TZNAME:WEST
DTSTART:20250330T010000
END:DAYLIGHT
BEGIN:STANDARD
TZOFFSETFROM:+0100
TZOFFSETTO:+0000
TZNAME:WET
DTSTART:20251026T010000
END:STANDARD
BEGIN:DAYLIGHT
TZOFFSETFROM:+0000
TZOFFSETTO:+0100
TZNAME:WEST
DTSTART:20260329T010000
END:DAYLIGHT
BEGIN:STANDARD
TZOFFSETFROM:+0100
TZOFFSETTO:+0000
TZNAME:WET
DTSTART:20261025T010000
END:STANDARD
BEGIN:DAYLIGHT
TZOFFSETFROM:+0000
TZOFFSETTO:+0100
TZNAME:WEST
DTSTART:20270328T010000
END:DAYLIGHT
BEGIN:STANDARD
TZOFFSETFROM:+0100
TZOFFSETTO:+0000
TZNAME:WET
DTSTART:20271031T010000
END:STANDARD
END:VTIMEZONE
BEGIN:VEVENT
DTSTART;TZID=Europe/Lisbon:20260523T100000
DTEND;TZID=Europe/Lisbon:20260523T123000
DTSTAMP:20260422T225311
CREATED:20260202T113711Z
LAST-MODIFIED:20260410T112213Z
UID:2630-1779530400-1779539400@greentribepeople.com
SUMMARY:Workshop V - Solo e Microbioma na Proteção Contra Incêndios
DESCRIPTION:Duração total: 2\,5 horas \nProteção natural contra incêndios através de estratégias de melhoria do solo e Microorganismos Eficazes. \nIrá aprender: \n\ncomo transformar material de limpeza de terrenos em cobertura valiosa para o solo\ncomo criar\, ao longo do tempo\, um campo de proteção vivo apoiado pela vida microbiana\ncomo fermentar aparas de madeira com EM\ncomo transformar folhas em poderoso «solo de folhas» usando EM\ncomo o pó cerâmico com microorganismos ajuda na desintoxicação do solo\no que são «pontos quentes microbianos» na regeneração do solo e como funcionam\nIremos falar sobre: EM Bokashi Starter\, EM Naturally Active (e EM-A caseiro)\, Pó Cerâmico\n\nIrá praticar: \n\nconstruir uma pilha de compostagem Bokashi**\ncriar pontos quentes microbianos no solo**\n\nLevará para casa: \n\nnotas e receitas para referência futura\nconhecimento que pode aplicar imediatamente\nEM Active para fermentar aparas de madeira ou criar pontos quentes microbianos na sua terra\n\nO que trazer: \n\nCaderno\nLuvas\nPequeno saco para Mudballs
URL:https://greentribepeople.com/en/event/workshop-v-solo-e-microbioma-na-protecao-contra-incendios/
LOCATION:Vale Juncal\, perto de São Teotónio\, Escola Primária Vale Juncal\, São Teotónio\, 7630-174\, Portugal
END:VEVENT
END:VCALENDAR